Package: GenomicSuperSignature Version: 1.16.1 Command: /home/biocbuild/R/R/bin/R CMD build --keep-empty-dirs --no-resave-data GenomicSuperSignature StartedAt: 2025-10-14 01:07:34 -0000 (Tue, 14 Oct 2025) EndedAt: 2025-10-14 01:21:52 -0000 (Tue, 14 Oct 2025) EllapsedTime: 858.2 seconds RetCode: 0 Status: OK PackageFile: GenomicSuperSignature_1.16.1.tar.gz PackageFileSize: 6.305 MiB