Package: GenomicSuperSignature Version: 1.16.1 Command: /Library/Frameworks/R.framework/Resources/bin/R CMD build --keep-empty-dirs --no-resave-data GenomicSuperSignature StartedAt: 2025-10-14 01:04:40 -0400 (Tue, 14 Oct 2025) EndedAt: 2025-10-14 01:06:31 -0400 (Tue, 14 Oct 2025) EllapsedTime: 111.0 seconds RetCode: 0 Status: OK PackageFile: GenomicSuperSignature_1.16.1.tar.gz PackageFileSize: 6.356 MiB