Package: GenomicSuperSignature Version: 1.16.1 Maintainer: Sehyun Oh MaintainerEmail: shbrief at gmail.com git_url: https://git.bioconductor.org/packages/GenomicSuperSignature git_branch: RELEASE_3_21 git_last_commit: 08fd55f git_last_commit_date: 2025-05-08 12:28:02 -0400 (Thu, 08 May 2025)