Package: GenomicScores Version: 2.20.2 Command: /home/biocbuild/bbs-3.21-bioc/R/bin/R CMD check --install=check:GenomicScores.install-out.txt --library=/home/biocbuild/bbs-3.21-bioc/R/site-library --timings GenomicScores_2.20.2.tar.gz StartedAt: 2025-10-15 23:35:49 -0400 (Wed, 15 Oct 2025) EndedAt: 2025-10-15 23:41:20 -0400 (Wed, 15 Oct 2025) EllapsedTime: 330.4 seconds RetCode: 0 Status: OK CheckDir: GenomicScores.Rcheck Warnings: 0