Package: GenomicScores Version: 2.20.2 Command: /home/biocbuild/R/R/bin/R CMD INSTALL GenomicScores StartedAt: 2025-10-13 20:51:02 -0000 (Mon, 13 Oct 2025) EndedAt: 2025-10-13 20:51:46 -0000 (Mon, 13 Oct 2025) EllapsedTime: 44.2 seconds RetCode: 0 Status: OK