Package: GenomicScores Version: 2.20.2 Command: /home/biocbuild/R/R/bin/R CMD check --install=check:GenomicScores.install-out.txt --library=/home/biocbuild/R/R/site-library --no-vignettes --timings GenomicScores_2.20.2.tar.gz StartedAt: 2025-10-14 09:29:47 -0000 (Tue, 14 Oct 2025) EndedAt: 2025-10-14 09:35:03 -0000 (Tue, 14 Oct 2025) EllapsedTime: 316.1 seconds RetCode: 0 Status: OK CheckDir: GenomicScores.Rcheck Warnings: 0