Package: GenomicScores Version: 2.20.2 Command: /home/biocbuild/R/R/bin/R CMD build --keep-empty-dirs --no-resave-data GenomicScores StartedAt: 2025-10-14 01:07:33 -0000 (Tue, 14 Oct 2025) EndedAt: 2025-10-14 01:10:36 -0000 (Tue, 14 Oct 2025) EllapsedTime: 183.0 seconds RetCode: 0 Status: OK PackageFile: GenomicScores_2.20.2.tar.gz PackageFileSize: 1.682 MiB