Package: GenomicScores Version: 2.20.0 Command: rm -rf GenomicScores.buildbin-libdir && mkdir GenomicScores.buildbin-libdir && /Users/biocbuild/BBS/utils/build-universal.sh GenomicScores_2.20.0.tar.gz /Library/Frameworks/R.framework/Resources/bin/R GenomicScores.buildbin-libdir StartedAt: 2025-04-21 22:36:37 -0400 (Mon, 21 Apr 2025) EndedAt: 2025-04-21 22:36:52 -0400 (Mon, 21 Apr 2025) EllapsedTime: 14.3 seconds RetCode: 0 Status: OK PackageFile: GenomicScores_2.20.0.tgz PackageFileSize: 2.07 MiB