Package: GenomicScores Version: 2.20.2 Command: /Library/Frameworks/R.framework/Resources/bin/R CMD check --install=check:GenomicScores.install-out.txt --library=/Library/Frameworks/R.framework/Resources/library --no-vignettes --timings GenomicScores_2.20.2.tar.gz StartedAt: 2025-10-14 22:54:48 -0400 (Tue, 14 Oct 2025) EndedAt: 2025-10-14 22:59:28 -0400 (Tue, 14 Oct 2025) EllapsedTime: 279.9 seconds RetCode: 0 Status: OK CheckDir: GenomicScores.Rcheck Warnings: 0