Package: GenomicScores Version: 2.20.2 Maintainer: Robert Castelo MaintainerEmail: robert.castelo at upf.edu git_url: https://git.bioconductor.org/packages/GenomicScores git_branch: RELEASE_3_21 git_last_commit: c3dc09e git_last_commit_date: 2025-07-04 13:23:05 -0400 (Fri, 04 Jul 2025)