Package: GenomicRanges Version: 1.60.0 Command: /Library/Frameworks/R.framework/Resources/bin/R CMD check --install=check:GenomicRanges.install-out.txt --library=/Library/Frameworks/R.framework/Resources/library --no-vignettes --timings GenomicRanges_1.60.0.tar.gz StartedAt: 2025-04-21 20:56:15 -0400 (Mon, 21 Apr 2025) EndedAt: 2025-04-21 21:00:46 -0400 (Mon, 21 Apr 2025) EllapsedTime: 270.4 seconds RetCode: 0 Status: OK CheckDir: GenomicRanges.Rcheck Warnings: 0