Package: GenomicRanges Version: 1.60.0 Command: /Library/Frameworks/R.framework/Resources/bin/R CMD check --install=check:GenomicRanges.install-out.txt --library=/Library/Frameworks/R.framework/Resources/library --no-vignettes --timings GenomicRanges_1.60.0.tar.gz StartedAt: 2025-04-21 19:34:27 -0400 (Mon, 21 Apr 2025) EndedAt: 2025-04-21 19:36:04 -0400 (Mon, 21 Apr 2025) EllapsedTime: 97.0 seconds RetCode: 0 Status: OK CheckDir: GenomicRanges.Rcheck Warnings: 0