Package: GenomicRanges Version: 1.60.0 Command: rm -rf GenomicRanges.buildbin-libdir && mkdir GenomicRanges.buildbin-libdir && /Users/biocbuild/BBS/utils/build-universal.sh GenomicRanges_1.60.0.tar.gz /Library/Frameworks/R.framework/Resources/bin/R GenomicRanges.buildbin-libdir StartedAt: 2025-10-15 18:39:55 -0400 (Wed, 15 Oct 2025) EndedAt: 2025-10-15 18:40:23 -0400 (Wed, 15 Oct 2025) EllapsedTime: 28.3 seconds RetCode: 0 Status: OK PackageFile: GenomicRanges_1.60.0.tgz PackageFileSize: 2.29 MiB