Package: GenomicPlot Version: 1.6.1 Command: /Library/Frameworks/R.framework/Resources/bin/R CMD check --install=check:GenomicPlot.install-out.txt --library=/Library/Frameworks/R.framework/Resources/library --no-vignettes --timings GenomicPlot_1.6.1.tar.gz StartedAt: 2025-10-14 22:53:22 -0400 (Tue, 14 Oct 2025) EndedAt: 2025-10-14 23:06:03 -0400 (Tue, 14 Oct 2025) EllapsedTime: 761.4 seconds RetCode: 0 Status: OK CheckDir: GenomicPlot.Rcheck Warnings: 0