Package: GenomicOZone Version: 1.22.0 Command: E:\biocbuild\bbs-3.21-bioc\R\bin\R.exe CMD check --no-multiarch --install=check:GenomicOZone.install-out.txt --library=E:\biocbuild\bbs-3.21-bioc\R\library --no-vignettes --timings GenomicOZone_1.22.0.tar.gz StartedAt: 2025-08-15 02:33:12 -0400 (Fri, 15 Aug 2025) EndedAt: 2025-08-15 02:40:15 -0400 (Fri, 15 Aug 2025) EllapsedTime: 422.6 seconds RetCode: 0 Status: OK CheckDir: GenomicOZone.Rcheck Warnings: 0