Package: GenomicOZone Version: 1.22.0 Command: /home/biocbuild/bbs-3.21-bioc/R/bin/R CMD check --install=check:GenomicOZone.install-out.txt --library=/home/biocbuild/bbs-3.21-bioc/R/site-library --timings GenomicOZone_1.22.0.tar.gz StartedAt: 2025-10-01 23:33:47 -0400 (Wed, 01 Oct 2025) EndedAt: 2025-10-01 23:40:47 -0400 (Wed, 01 Oct 2025) EllapsedTime: 420.5 seconds RetCode: 0 Status: OK CheckDir: GenomicOZone.Rcheck Warnings: 0