Package: GenomicOZone Version: 1.22.0 Command: /home/biocbuild/R/R/bin/R CMD INSTALL GenomicOZone StartedAt: 2025-09-29 21:01:34 -0000 (Mon, 29 Sep 2025) EndedAt: 2025-09-29 21:03:05 -0000 (Mon, 29 Sep 2025) EllapsedTime: 91.8 seconds RetCode: 0 Status: OK