Package: GenomicOZone Version: 1.22.0 Command: /home/biocbuild/R/R/bin/R CMD build --keep-empty-dirs --no-resave-data GenomicOZone StartedAt: 2025-09-30 01:47:28 -0000 (Tue, 30 Sep 2025) EndedAt: 2025-09-30 01:50:46 -0000 (Tue, 30 Sep 2025) EllapsedTime: 198.1 seconds RetCode: 0 Status: OK PackageFile: GenomicOZone_1.22.0.tar.gz PackageFileSize: 1.275 MiB