Package: GenomicInteractions Version: 1.42.0 Command: /home/biocbuild/bbs-3.21-bioc/R/bin/R CMD check --install=check:GenomicInteractions.install-out.txt --library=/home/biocbuild/bbs-3.21-bioc/R/site-library --timings GenomicInteractions_1.42.0.tar.gz StartedAt: 2025-10-15 23:33:08 -0400 (Wed, 15 Oct 2025) EndedAt: 2025-10-15 23:41:31 -0400 (Wed, 15 Oct 2025) EllapsedTime: 502.5 seconds RetCode: 0 Status: OK CheckDir: GenomicInteractions.Rcheck Warnings: 0