Package: GenomicInteractions Version: 1.42.0 Command: rm -rf GenomicInteractions.buildbin-libdir && mkdir GenomicInteractions.buildbin-libdir && /Users/biocbuild/BBS/utils/build-universal.sh GenomicInteractions_1.42.0.tar.gz /Library/Frameworks/R.framework/Resources/bin/R GenomicInteractions.buildbin-libdir StartedAt: 2025-10-14 13:33:31 -0400 (Tue, 14 Oct 2025) EndedAt: 2025-10-14 13:37:40 -0400 (Tue, 14 Oct 2025) EllapsedTime: 249.7 seconds RetCode: 0 Status: OK PackageFile: GenomicInteractions_1.42.0.tgz PackageFileSize: 4.026 MiB