Package: GenomicInteractions Version: 1.42.0 Command: rm -rf GenomicInteractions.buildbin-libdir && mkdir GenomicInteractions.buildbin-libdir && /Users/biocbuild/BBS/utils/build-universal.sh GenomicInteractions_1.42.0.tar.gz /Library/Frameworks/R.framework/Resources/bin/R GenomicInteractions.buildbin-libdir StartedAt: 2025-04-21 22:36:27 -0400 (Mon, 21 Apr 2025) EndedAt: 2025-04-21 22:37:07 -0400 (Mon, 21 Apr 2025) EllapsedTime: 39.8 seconds RetCode: 0 Status: OK PackageFile: GenomicInteractions_1.42.0.tgz PackageFileSize: 4.008 MiB