Package: GenomicInteractions Version: 1.42.0 Command: rm -rf GenomicInteractions.buildbin-libdir && mkdir GenomicInteractions.buildbin-libdir && /Users/biocbuild/BBS/utils/build-universal.sh GenomicInteractions_1.42.0.tar.gz /Library/Frameworks/R.framework/Resources/bin/R GenomicInteractions.buildbin-libdir StartedAt: 2025-10-15 18:39:47 -0400 (Wed, 15 Oct 2025) EndedAt: 2025-10-15 18:41:46 -0400 (Wed, 15 Oct 2025) EllapsedTime: 119.8 seconds RetCode: 0 Status: OK PackageFile: GenomicInteractions_1.42.0.tgz PackageFileSize: 4.026 MiB