Package: GenomicInteractionNodes Version: 1.12.0 Command: /home/biocbuild/bbs-3.21-bioc/R/bin/R CMD INSTALL GenomicInteractionNodes StartedAt: 2025-10-01 15:42:35 -0400 (Wed, 01 Oct 2025) EndedAt: 2025-10-01 15:43:08 -0400 (Wed, 01 Oct 2025) EllapsedTime: 33.5 seconds RetCode: 0 Status: OK