Package: GenomicInteractionNodes Version: 1.12.0 Command: /home/biocbuild/bbs-3.21-bioc/R/bin/R CMD check --install=check:GenomicInteractionNodes.install-out.txt --library=/home/biocbuild/bbs-3.21-bioc/R/site-library --timings GenomicInteractionNodes_1.12.0.tar.gz StartedAt: 2025-10-01 23:33:23 -0400 (Wed, 01 Oct 2025) EndedAt: 2025-10-01 23:40:41 -0400 (Wed, 01 Oct 2025) EllapsedTime: 438.5 seconds RetCode: 0 Status: OK CheckDir: GenomicInteractionNodes.Rcheck Warnings: 0