Package: GenomicDistributions Version: 1.16.1 Command: /Library/Frameworks/R.framework/Resources/bin/R CMD INSTALL GenomicDistributions StartedAt: 2025-10-13 15:28:00 -0400 (Mon, 13 Oct 2025) EndedAt: 2025-10-13 15:28:36 -0400 (Mon, 13 Oct 2025) EllapsedTime: 36.4 seconds RetCode: 0 Status: OK