Package: GenomicDistributions Version: 1.16.1 Command: /Library/Frameworks/R.framework/Resources/bin/R CMD build --keep-empty-dirs --no-resave-data GenomicDistributions StartedAt: 2025-10-13 19:17:00 -0400 (Mon, 13 Oct 2025) EndedAt: 2025-10-13 19:19:40 -0400 (Mon, 13 Oct 2025) EllapsedTime: 159.8 seconds RetCode: 0 Status: OK PackageFile: GenomicDistributions_1.16.1.tar.gz PackageFileSize: 5.948 MiB