Package: GenomicDistributions Version: 1.16.1 Command: rm -rf GenomicDistributions.buildbin-libdir && mkdir GenomicDistributions.buildbin-libdir && /Users/biocbuild/BBS/utils/build-universal.sh GenomicDistributions_1.16.1.tar.gz /Library/Frameworks/R.framework/Resources/bin/R GenomicDistributions.buildbin-libdir StartedAt: 2025-10-14 13:33:20 -0400 (Tue, 14 Oct 2025) EndedAt: 2025-10-14 13:34:19 -0400 (Tue, 14 Oct 2025) EllapsedTime: 59.3 seconds RetCode: 0 Status: OK PackageFile: GenomicDistributions_1.16.1.tgz PackageFileSize: 5.647 MiB