Package: GenomicDataCommons Version: 1.32.1 Command: chmod a+r GenomicDataCommons -R && E:\biocbuild\bbs-3.21-bioc\R\bin\R.exe CMD build --keep-empty-dirs --no-resave-data GenomicDataCommons StartedAt: 2025-08-14 19:20:07 -0400 (Thu, 14 Aug 2025) EndedAt: 2025-08-14 19:22:34 -0400 (Thu, 14 Aug 2025) EllapsedTime: 147.5 seconds RetCode: 0 Status: OK PackageFile: GenomicDataCommons_1.32.1.tar.gz PackageFileSize: 2.286 MiB