Package: GenomicDataCommons Version: 1.32.1 Command: rm -rf GenomicDataCommons.buildbin-libdir && mkdir GenomicDataCommons.buildbin-libdir && E:\biocbuild\bbs-3.21-bioc\R\bin\R.exe CMD INSTALL --build --library=GenomicDataCommons.buildbin-libdir GenomicDataCommons_1.32.1.tar.gz StartedAt: 2025-08-15 09:21:41 -0400 (Fri, 15 Aug 2025) EndedAt: 2025-08-15 09:23:01 -0400 (Fri, 15 Aug 2025) EllapsedTime: 79.1 seconds RetCode: 0 Status: OK PackageFile: GenomicDataCommons_1.32.1.zip PackageFileSize: 1.922 MiB