Package: GenomicAlignments Version: 1.44.0 Command: /Library/Frameworks/R.framework/Resources/bin/R CMD INSTALL GenomicAlignments StartedAt: 2025-10-13 15:45:05 -0400 (Mon, 13 Oct 2025) EndedAt: 2025-10-13 15:46:27 -0400 (Mon, 13 Oct 2025) EllapsedTime: 81.9 seconds RetCode: 0 Status: OK