Package: GenomicAlignments Version: 1.44.0 Command: /Library/Frameworks/R.framework/Resources/bin/R CMD build --keep-empty-dirs --no-resave-data GenomicAlignments StartedAt: 2025-10-13 19:16:50 -0400 (Mon, 13 Oct 2025) EndedAt: 2025-10-13 19:20:33 -0400 (Mon, 13 Oct 2025) EllapsedTime: 223.8 seconds RetCode: 0 Status: OK PackageFile: GenomicAlignments_1.44.0.tar.gz PackageFileSize: 2.162 MiB