Package: GenomicAlignments Version: 1.44.0 Command: /home/biocbuild/R/R/bin/R CMD check --install=check:GenomicAlignments.install-out.txt --library=/home/biocbuild/R/R/site-library --no-vignettes --timings GenomicAlignments_1.44.0.tar.gz StartedAt: 2025-10-14 09:27:27 -0000 (Tue, 14 Oct 2025) EndedAt: 2025-10-14 10:07:27 -0000 (Tue, 14 Oct 2025) EllapsedTime: 2400.5 seconds RetCode: None Status: TIMEOUT CheckDir: GenomicAlignments.Rcheck Warnings: NA