Package: GenomicAlignments Version: 1.44.0 Command: /home/biocbuild/R/R/bin/R CMD build --keep-empty-dirs --no-resave-data GenomicAlignments StartedAt: 2025-10-14 01:05:21 -0000 (Tue, 14 Oct 2025) EndedAt: 2025-10-14 01:07:33 -0000 (Tue, 14 Oct 2025) EllapsedTime: 132.0 seconds RetCode: 0 Status: OK PackageFile: GenomicAlignments_1.44.0.tar.gz PackageFileSize: 2.168 MiB