Package: GenomAutomorphism Version: 1.10.0 Command: /home/biocbuild/R/R/bin/R CMD check --install=check:GenomAutomorphism.install-out.txt --library=/home/biocbuild/R/R/site-library --no-vignettes --timings GenomAutomorphism_1.10.0.tar.gz StartedAt: 2025-09-30 09:55:52 -0000 (Tue, 30 Sep 2025) EndedAt: 2025-09-30 10:00:05 -0000 (Tue, 30 Sep 2025) EllapsedTime: 253.2 seconds RetCode: 0 Status: OK CheckDir: GenomAutomorphism.Rcheck Warnings: 0