Package: GeneticsPed Version: 1.70.0 Command: rm -rf GeneticsPed.buildbin-libdir && mkdir GeneticsPed.buildbin-libdir && E:\biocbuild\bbs-3.21-bioc\R\bin\R.exe CMD INSTALL --build --library=GeneticsPed.buildbin-libdir GeneticsPed_1.70.0.tar.gz StartedAt: 2025-08-15 09:21:24 -0400 (Fri, 15 Aug 2025) EndedAt: 2025-08-15 09:22:07 -0400 (Fri, 15 Aug 2025) EllapsedTime: 42.7 seconds RetCode: 0 Status: OK PackageFile: GeneticsPed_1.70.0.zip PackageFileSize: 848.2 KiB