Package: GeneticsPed Version: 1.70.0 Command: /home/biocbuild/bbs-3.21-bioc/R/bin/R CMD INSTALL GeneticsPed StartedAt: 2025-10-15 15:04:27 -0400 (Wed, 15 Oct 2025) EndedAt: 2025-10-15 15:04:45 -0400 (Wed, 15 Oct 2025) EllapsedTime: 17.4 seconds RetCode: 0 Status: OK