Package: GeneticsPed Version: 1.70.0 Command: /home/biocbuild/bbs-3.21-bioc/R/bin/R CMD build --keep-empty-dirs --no-resave-data GeneticsPed StartedAt: 2025-10-15 17:39:11 -0400 (Wed, 15 Oct 2025) EndedAt: 2025-10-15 17:39:35 -0400 (Wed, 15 Oct 2025) EllapsedTime: 24.1 seconds RetCode: 0 Status: OK PackageFile: GeneticsPed_1.70.0.tar.gz PackageFileSize: 672.8 KiB