Package: GeneticsPed Version: 1.70.0 Command: /home/biocbuild/R/R/bin/R CMD INSTALL GeneticsPed StartedAt: 2025-10-13 20:15:32 -0000 (Mon, 13 Oct 2025) EndedAt: 2025-10-13 20:15:53 -0000 (Mon, 13 Oct 2025) EllapsedTime: 21.2 seconds RetCode: 0 Status: OK