Package: GeneticsPed Version: 1.70.0 Command: /home/biocbuild/R/R/bin/R CMD check --install=check:GeneticsPed.install-out.txt --library=/home/biocbuild/R/R/site-library --no-vignettes --timings GeneticsPed_1.70.0.tar.gz StartedAt: 2025-10-14 09:27:00 -0000 (Tue, 14 Oct 2025) EndedAt: 2025-10-14 09:27:27 -0000 (Tue, 14 Oct 2025) EllapsedTime: 27.1 seconds RetCode: 0 Status: WARNINGS CheckDir: GeneticsPed.Rcheck Warnings: 1