Package: GeneStructureTools Version: 1.28.0 Command: /home/biocbuild/R/R/bin/R CMD INSTALL GeneStructureTools StartedAt: 2025-10-13 21:11:48 -0000 (Mon, 13 Oct 2025) EndedAt: 2025-10-13 21:13:03 -0000 (Mon, 13 Oct 2025) EllapsedTime: 75.4 seconds RetCode: 0 Status: OK