Package: GeneStructureTools Version: 1.28.0 Command: /home/biocbuild/R/R/bin/R CMD build --keep-empty-dirs --no-resave-data GeneStructureTools StartedAt: 2025-10-14 01:04:28 -0000 (Tue, 14 Oct 2025) EndedAt: 2025-10-14 01:08:03 -0000 (Tue, 14 Oct 2025) EllapsedTime: 215.1 seconds RetCode: 0 Status: OK PackageFile: GeneStructureTools_1.28.0.tar.gz PackageFileSize: 2.559 MiB