Package: GeneGeneInteR Version: 1.33.0 Command: E:\biocbuild\bbs-3.21-bioc\R\bin\R.exe CMD check --no-multiarch --install=check:GeneGeneInteR.install-out.txt --library=E:\biocbuild\bbs-3.21-bioc\R\library --no-vignettes --timings GeneGeneInteR_1.33.0.tar.gz StartedAt: 2025-03-26 01:51:09 -0400 (Wed, 26 Mar 2025) EndedAt: 2025-03-26 01:54:31 -0400 (Wed, 26 Mar 2025) EllapsedTime: 202.4 seconds RetCode: 1 Status: ERROR CheckDir: GeneGeneInteR.Rcheck Warnings: NA