Package: GeneGeneInteR Version: 1.33.0 Command: chmod a+r GeneGeneInteR -R && E:\biocbuild\bbs-3.21-bioc\R\bin\R.exe CMD build --keep-empty-dirs --no-resave-data GeneGeneInteR StartedAt: 2025-03-25 19:15:22 -0400 (Tue, 25 Mar 2025) EndedAt: 2025-03-25 19:16:19 -0400 (Tue, 25 Mar 2025) EllapsedTime: 57.9 seconds RetCode: 0 Status: OK PackageFile: GeneGeneInteR_1.33.0.tar.gz PackageFileSize: 1.002 MiB