Package: GeneGeneInteR Version: 1.33.0 Command: rm -rf GeneGeneInteR.buildbin-libdir && mkdir GeneGeneInteR.buildbin-libdir && E:\biocbuild\bbs-3.21-bioc\R\bin\R.exe CMD INSTALL --build --library=GeneGeneInteR.buildbin-libdir GeneGeneInteR_1.33.0.tar.gz StartedAt: 2025-03-26 08:15:22 -0400 (Wed, 26 Mar 2025) EndedAt: 2025-03-26 08:16:37 -0400 (Wed, 26 Mar 2025) EllapsedTime: 74.8 seconds RetCode: 0 Status: OK PackageFile: GeneGeneInteR_1.33.0.zip PackageFileSize: 1.121 MiB