Package: GeneGA Version: 1.58.0 Command: /Library/Frameworks/R.framework/Resources/bin/R CMD check --install=check:GeneGA.install-out.txt --library=/Library/Frameworks/R.framework/Resources/library --no-vignettes --timings GeneGA_1.58.0.tar.gz StartedAt: 2025-10-14 04:11:01 -0400 (Tue, 14 Oct 2025) EndedAt: 2025-10-14 04:17:31 -0400 (Tue, 14 Oct 2025) EllapsedTime: 390.0 seconds RetCode: 0 Status: OK CheckDir: GeneGA.Rcheck Warnings: 0