Package: GeneBreak Version: 1.38.0 Command: /home/biocbuild/bbs-3.21-bioc/R/bin/R CMD build --keep-empty-dirs --no-resave-data GeneBreak StartedAt: 2025-10-15 17:37:32 -0400 (Wed, 15 Oct 2025) EndedAt: 2025-10-15 17:38:04 -0400 (Wed, 15 Oct 2025) EllapsedTime: 32.0 seconds RetCode: 0 Status: OK PackageFile: GeneBreak_1.38.0.tar.gz PackageFileSize: 4.274 MiB