Package: GeneBreak Version: 1.38.0 Command: /Library/Frameworks/R.framework/Resources/bin/R CMD check --install=check:GeneBreak.install-out.txt --library=/Library/Frameworks/R.framework/Resources/library --no-vignettes --timings GeneBreak_1.38.0.tar.gz StartedAt: 2025-04-21 20:51:44 -0400 (Mon, 21 Apr 2025) EndedAt: 2025-04-21 20:54:54 -0400 (Mon, 21 Apr 2025) EllapsedTime: 189.9 seconds RetCode: 0 Status: OK CheckDir: GeneBreak.Rcheck Warnings: 0