Package: GenProSeq Version: 1.12.0 Command: /Library/Frameworks/R.framework/Resources/bin/R CMD check --install=check:GenProSeq.install-out.txt --library=/Library/Frameworks/R.framework/Resources/library --no-vignettes --timings GenProSeq_1.12.0.tar.gz StartedAt: 2025-10-14 04:19:49 -0400 (Tue, 14 Oct 2025) EndedAt: 2025-10-14 04:27:40 -0400 (Tue, 14 Oct 2025) EllapsedTime: 470.9 seconds RetCode: 0 Status: OK CheckDir: GenProSeq.Rcheck Warnings: 0