Package: GenProSeq Version: 1.12.0 Command: /home/biocbuild/R/R/bin/R CMD INSTALL GenProSeq StartedAt: 2025-10-13 20:23:21 -0000 (Mon, 13 Oct 2025) EndedAt: 2025-10-13 20:23:36 -0000 (Mon, 13 Oct 2025) EllapsedTime: 15.8 seconds RetCode: 0 Status: OK