Package: GenProSeq Version: 1.12.0 Command: /home/biocbuild/R/R/bin/R CMD check --install=check:GenProSeq.install-out.txt --library=/home/biocbuild/R/R/site-library --no-vignettes --timings GenProSeq_1.12.0.tar.gz StartedAt: 2025-10-14 09:31:31 -0000 (Tue, 14 Oct 2025) EndedAt: 2025-10-14 09:38:24 -0000 (Tue, 14 Oct 2025) EllapsedTime: 413.2 seconds RetCode: 0 Status: OK CheckDir: GenProSeq.Rcheck Warnings: 0